BEGIN:VCALENDAR
VERSION:2.0
PRODID:-//TYPO3/NONSGML Calendarize//EN
BEGIN:VEVENT
UID:calendarize-test-termin-1-2
DTSTAMP:20260422T175037Z
DTSTART:20270219T090000Z
DTEND:20270219T110000Z
SUMMARY:Test Termin
DESCRIPTION:
X-ALT-DESC;FMTTYPE=text/html:
LOCATION:
END:VEVENT
END:VCALENDAR
